BEGIN:VCALENDAR
VERSION:2.0
PRODID:-//eventon.com NONSGML v1.0//EN
CALSCALE:GREGORIAN
METHOD:PUBLISH
BEGIN:VEVENT
UID:69e743be6986b
DTSTAMP:20260421T093038Z
DTSTART:20250905T230000Z
DTEND:20250906T010000Z
LOCATION:Living Word 142 N. 17th Street\,  Philadelphia PA 19103
SUMMARY:Worship Night
DESCRIPTION:Worship Night\nhttps://lwcphilly.org/events/first-fridays/
URL:https://lwcphilly.org/events/first-fridays/
END:VEVENT
END:VCALENDAR