BEGIN:VCALENDAR
VERSION:2.0
PRODID:-//eventon.com NONSGML v1.0//EN
CALSCALE:GREGORIAN
METHOD:PUBLISH
BEGIN:VEVENT
UID:69e730f018594
DTSTAMP:20260421T081024Z
DTSTART:20260307T000000Z
DTEND:20260307T020000Z
LOCATION:Living Word 142 N. 17th Street\,  Philadelphia PA 19103
SUMMARY:Worship Night
DESCRIPTION:Worship Night\nhttps://lwcphilly.org/events/first-fridays/var/r
 i-6.l-L1
URL:https://lwcphilly.org/events/first-fridays/var/ri-6.l-L1
END:VEVENT
END:VCALENDAR