BEGIN:VCALENDAR
VERSION:2.0
PRODID:-//eventon.com NONSGML v1.0//EN
CALSCALE:GREGORIAN
METHOD:PUBLISH
BEGIN:VEVENT
UID:69e5ec4f1c158
DTSTAMP:20260420T090519Z
DTSTART:20241128T000000Z
DTEND:20241128T045900Z
LOCATION:Living Word 142 N. 17th Street\,  Philadelphia PA 19103
SUMMARY:Thanksgiving Service
DESCRIPTION:\nhttps://lwcphilly.org/events/thanksgiving-service/
URL:https://lwcphilly.org/events/thanksgiving-service/
END:VEVENT
END:VCALENDAR